BEGIN:VCALENDAR
VERSION:2.0
PRODID:EVENTFROG//EVENT//ICAL
BEGIN:VEVENT
UID:20260422T210439Z-7452628979595394872@eventfrog.de
DTSTAMP:20260422T210439Z
DTSTART:20270626T070000Z
DTEND:20270628T150000Z
SUMMARY:Unterrichtsmethodik & persönliche Entwicklung
DESCRIPTION:25-stündige Yoga-Fortbildung vom 26.-28.06.2027 für Yogalehrende zur Vertiefung der Methodik und persönlichen Entwicklung.\n\nhttps://eventfrog.de/de/p/sport-fitness/yoga/unterrichtsmethodik-persoenliche-entwicklung-7452628979595394872.html
LOCATION:Yoga Labor Berlin
GEO:52.462984;13.509339
URL:https://eventfrog.de/de/p/sport-fitness/yoga/unterrichtsmethodik-persoenliche-entwicklung-7452628979595394872.html
END:VEVENT
END:VCALENDAR