BEGIN:VCALENDAR
VERSION:2.0
PRODID:EVENTFROG//EVENT//ICAL
BEGIN:VEVENT
UID:20260423T053727Z-7452630655979014984@eventfrog.de
DTSTAMP:20260423T053727Z
DTSTART:20260825T170000Z
DTEND:20260825T183000Z
SUMMARY:Improfieber - Das Improtheater zum Feinkost Sommertheater
DESCRIPTION:Das Improtheater zeigt ab 19 Uhr überraschende, humorvolle Szenen voller unerwarteter Wendungen im Feinkost Sommertheater.\n\nhttps://eventfrog.de/de/p/theater-buehne/theater/improfieber-das-improtheater-zum-feinkost-sommertheater-7452630655979014984.html
LOCATION:Feinkost Sommertheater
GEO:51.326446;12.372892
URL:https://eventfrog.de/de/p/theater-buehne/theater/improfieber-das-improtheater-zum-feinkost-sommertheater-7452630655979014984.html
END:VEVENT
END:VCALENDAR