BEGIN:VCALENDAR
VERSION:2.0
PRODID:EVENTFROG//EVENT//ICAL
BEGIN:VEVENT
UID:20260424T101303Z-7452636749241517710@eventfrog.de
DTSTAMP:20260424T101303Z
DTSTART:20261024T180000Z
DTEND:20261024T200000Z
SUMMARY:Michael Schweizer - Meine Jahre auf Facebook
DESCRIPTION:Michael öffnet seine Facebook-Chronik von 2007 bis 2017 – und teilt die wahren Geschichten hinter seinen Posts. Ungefiltert, sarkastisch und mit gesundem Abstand zum damaligen Ich.\n\nhttps://eventfrog.de/de/p/theater-buehne/comedy-kabarett/michael-schweizer-meine-jahre-auf-facebook-7452636749241517710.html
LOCATION:Kurtheater Baden
GEO:47.480245;8.310262
URL:https://eventfrog.de/de/p/theater-buehne/comedy-kabarett/michael-schweizer-meine-jahre-auf-facebook-7452636749241517710.html
END:VEVENT
END:VCALENDAR