BEGIN:VCALENDAR
VERSION:2.0
PRODID:EVENTFROG//EVENT//ICAL
BEGIN:VEVENT
UID:20260424T101257Z-7452638032807603234@eventfrog.de
DTSTAMP:20260424T101257Z
DTSTART:20260520T170000Z
DTEND:20260520T180000Z
SUMMARY:Dem Igel auf der Spur – Igelspürhunde im Einsatz
DESCRIPTION:Der Vortrag erklärt, wie Igelspürhunde auf Rodungsflächen gezielt nach Igeln und deren Nestern anhand ihres Geruchs suchen.\n\nhttps://eventfrog.de/de/p/fuehrungen-vortraege/vortrag/dem-igel-auf-der-spur-igelspuerhunde-im-einsatz-7452638032807603234.html
LOCATION:Naturmuseum St.Gallen
GEO:47.439470;9.408700
URL:https://eventfrog.de/de/p/fuehrungen-vortraege/vortrag/dem-igel-auf-der-spur-igelspuerhunde-im-einsatz-7452638032807603234.html
END:VEVENT
END:VCALENDAR