BEGIN:VCALENDAR
VERSION:2.0
PRODID:EVENTFROG//EVENT//ICAL
BEGIN:VEVENT
UID:20260425T103323Z-7452638798452624818@eventfrog.de
DTSTAMP:20260425T103323Z
DTSTART:20260823T170000Z
DTEND:20260823T181500Z
SUMMARY:Der kleine Prinz zum Feinkost Sommertheater
DESCRIPTION:Das Theater im Herzen bringt «Der kleine Prinz» im Feinkost Sommertheater als lebendiges Familienstück ab 8 Jahren auf die Bühne.\n\nhttps://eventfrog.de/de/p/theater-buehne/theater/der-kleine-prinz-zum-feinkost-sommertheater-7452638798452624818.html
LOCATION:Feinkost Sommertheater
GEO:51.326446;12.372892
URL:https://eventfrog.de/de/p/theater-buehne/theater/der-kleine-prinz-zum-feinkost-sommertheater-7452638798452624818.html
END:VEVENT
END:VCALENDAR