BEGIN:VCALENDAR
VERSION:2.0
PRODID:EVENTFROG//EVENT//ICAL
BEGIN:VEVENT
UID:20260422T210437Z-7452639798295049767@eventfrog.de
DTSTAMP:20260422T210437Z
DTSTART:20270828T070000Z
DTEND:20270830T150000Z
SUMMARY:Anatomie & Biomechanik - 25h-Yoga-Weiterbildung
DESCRIPTION:Yoga-Fortbildung vom 28.-30.08.2027 vertieft Anatomie und Biomechanik für Yogalehrende. 25 Stunden, 9-17 Uhr.\n\nhttps://eventfrog.de/de/p/sport-fitness/yoga/anatomie-biomechanik-25h-yoga-weiterbildung-7452639798295049767.html
LOCATION:Yoga Labor Berlin
GEO:52.462984;13.509339
URL:https://eventfrog.de/de/p/sport-fitness/yoga/anatomie-biomechanik-25h-yoga-weiterbildung-7452639798295049767.html
END:VEVENT
END:VCALENDAR