BEGIN:VCALENDAR
VERSION:2.0
PRODID:EVENTFROG//EVENT//ICAL
BEGIN:VEVENT
UID:20260426T031757Z-7452643360798469824@eventfrog.de
DTSTAMP:20260426T031757Z
DTSTART:20260427T180000Z
DTEND:20260427T200000Z
SUMMARY:Heinz Klever - Wer ist hier irre
DESCRIPTION:Heinz Klever präsentiert im Soloprogramm «WER IST HIER IRRE!» Sketche, Parodien und Musik mit kritischen Standpunkten zur Lage.\n\nhttps://eventfrog.de/de/p/theater-buehne/comedy-kabarett/heinz-klever-wer-ist-hier-irre-7452643360798469824.html
LOCATION:Haus der Insel - Tourismus-Service Langeoog
GEO:53.749833;7.480400
URL:https://eventfrog.de/de/p/theater-buehne/comedy-kabarett/heinz-klever-wer-ist-hier-irre-7452643360798469824.html
END:VEVENT
END:VCALENDAR