BEGIN:VCALENDAR
VERSION:2.0
PRODID:EVENTFROG//EVENT//ICAL
BEGIN:VEVENT
UID:20260424T092146Z-7452647251581642224@eventfrog.de
DTSTAMP:20260424T092146Z
DTSTART:20260502T090000Z
DTEND:20260502T130000Z
SUMMARY:Ballonkünste für Jung und Alt
DESCRIPTION:Ballonkünstler Sascha sorgt für leuchtende Kinderaugen. \n\nhttps://eventfrog.de/de/p/kinderveranstaltungen/familienveranstaltungen/ballonkuenste-fuer-jung-und-alt-7452647251581642224.html
LOCATION:Bücher Lüthy Aarau
GEO:47.390821;8.046890
URL:https://eventfrog.de/de/p/kinderveranstaltungen/familienveranstaltungen/ballonkuenste-fuer-jung-und-alt-7452647251581642224.html
END:VEVENT
END:VCALENDAR