BEGIN:VCALENDAR
VERSION:2.0
PRODID:EVENTFROG//EVENT//ICAL
BEGIN:VEVENT
UID:20260424T074711Z-7452649311790191996@eventfrog.de
DTSTAMP:20260424T074711Z
DTSTART:20260425T160000Z
DTEND:20260425T180000Z
SUMMARY:Kizomba Bootcamp - Fluidity and Stability Training
DESCRIPTION:Kizomba-Bootcamp für mehr Balance und Leichtigkeit im Tanzen.\n- teschnische Übungen\n- neue Schrittkombi\n- 30 min Practice im Anschluss\nLets level up and have fun together \n\nhttps://eventfrog.de/de/p/kurse-seminare/freizeit-hobby/kizomba-bootcamp-fluidity-and-stability-training-7452649311790191996.html
LOCATION:Glow Barre Studio
GEO:50.921330;6.957892
URL:https://eventfrog.de/de/p/kurse-seminare/freizeit-hobby/kizomba-bootcamp-fluidity-and-stability-training-7452649311790191996.html
END:VEVENT
END:VCALENDAR