BEGIN:VCALENDAR
VERSION:2.0
PRODID:EVENTFROG//EVENT//ICAL
BEGIN:VEVENT
UID:20260424T110652Z-7452658855383683229@eventfrog.de
DTSTAMP:20260424T110652Z
DTSTART:20260525T080000Z
DTEND:20260525T210000Z
SUMMARY:Pfingstmontag - Bowling zum halben Preis!
DESCRIPTION:Am Pfingstmontag - Bowling zum halben Preis!\n\nhttps://eventfrog.de/de/p/freizeit-ausfluege/ausflug/pfingstmontag-bowling-zum-halben-preis-7452658855383683229.html
LOCATION:City Bowling Wiesbaden
GEO:50.076394;8.251523
URL:https://eventfrog.de/de/p/freizeit-ausfluege/ausflug/pfingstmontag-bowling-zum-halben-preis-7452658855383683229.html
END:VEVENT
END:VCALENDAR