BEGIN:VCALENDAR
VERSION:2.0
PRODID:EVENTFROG//EVENT//ICAL
BEGIN:VEVENT
UID:20260424T071637Z-7452661188033292206@eventfrog.de
DTSTAMP:20260424T071637Z
DTSTART:20260606T070000Z
DTEND:20260606T150000Z
SUMMARY:SOMMER EVENT - BEA.SWISS
DESCRIPTION:Sommer-Event für Familien mit Spielen, Basteln, Parcours und Verpflegung. Dazu Schnäppchen im Fabrikladen, Gewinnspiele und gute Stimmung für Gross und Klein.\n\nhttps://eventfrog.de/de/p/kinderveranstaltungen/familienveranstaltungen/sommer-event-bea-swiss-7452661188033292206.html
LOCATION:BEA-Shop
GEO:47.473133;8.194818
URL:https://eventfrog.de/de/p/kinderveranstaltungen/familienveranstaltungen/sommer-event-bea-swiss-7452661188033292206.html
END:VEVENT
END:VCALENDAR