BEGIN:VCALENDAR
VERSION:2.0
PRODID:EVENTFROG//EVENT//ICAL
BEGIN:VEVENT
UID:20260423T053727Z-7452674771999793997@eventfrog.de
DTSTAMP:20260423T053727Z
DTSTART:20260505T170000Z
DTEND:20260505T183000Z
SUMMARY:Inspiration für einen weniger stressigen Alltag
DESCRIPTION:1000 km oder 280 km Wanderung sind aktuell nicht drinnen bei dem vollen Alltag. Doch ein bisschen Veränderung wäre schon fein. Und die kommt auf dem Camino 2 Go daher. Ein Abend voller Camino-Energie.\n\nhttps://eventfrog.de/de/p/kurse-seminare/coaching/inspiration-fuer-einen-weniger-stressigen-alltag-7452674771999793997.html
LOCATION:Online-Event
URL:https://eventfrog.de/de/p/kurse-seminare/coaching/inspiration-fuer-einen-weniger-stressigen-alltag-7452674771999793997.html
END:VEVENT
END:VCALENDAR