BEGIN:VCALENDAR
VERSION:2.0
PRODID:EVENTFROG//EVENT//ICAL
BEGIN:VEVENT
UID:20260424T102810Z-7452675527238803551@eventfrog.de
DTSTAMP:20260424T102810Z
DTSTART:20260510T080000Z
DTEND:20260510T100000Z
SUMMARY:Un paysage dans le journal: atelier d'artiste
DESCRIPTION:Atelier avec Sophie Bouvier Ausländer pour explorer son œuvre au MHL et créer une réponse plastique en lien avec l'exposition.\n\nhttps://eventfrog.de/fr/p/art-expositions/autres-evenements-artistiques/un-paysage-dans-le-journal-atelier-d-artiste-7452675527238803551.html
LOCATION:Musée historique de Lausanne
GEO:46.522100;6.634880
URL:https://eventfrog.de/fr/p/art-expositions/autres-evenements-artistiques/un-paysage-dans-le-journal-atelier-d-artiste-7452675527238803551.html
END:VEVENT
END:VCALENDAR