BEGIN:VCALENDAR
VERSION:2.0
PRODID:EVENTFROG//EVENT//ICAL
BEGIN:VEVENT
UID:20260423T070443Z-7452679935662013020@eventfrog.de
DTSTAMP:20260423T070443Z
DTSTART:20260519T084500Z
DTEND:20260519T094500Z
SUMMARY:Babyzeichen-Spielgruppe
DESCRIPTION:Babys ab 6 Monaten lernen in einer Spielgruppe Babyzeichen spielerisch durch Lieder, Spiele und altersgerechte Instrumente.\n\nhttps://eventfrog.de/de/p/kurse-seminare/familienweiterbildung/babyzeichen-spielgruppe-7452679935662013020.html
LOCATION:Kids&co Familienzentrum Maria Enzersdorf
GEO:48.100805;16.280810
URL:https://eventfrog.de/de/p/kurse-seminare/familienweiterbildung/babyzeichen-spielgruppe-7452679935662013020.html
END:VEVENT
END:VCALENDAR