BEGIN:VCALENDAR
VERSION:2.0
PRODID:EVENTFROG//EVENT//ICAL
BEGIN:VEVENT
UID:20260423T235239Z-7452682699381189763@eventfrog.de
DTSTAMP:20260423T235239Z
DTSTART:20260424T180000Z
DTEND:20260424T203000Z
SUMMARY:Bülent Ceylan - Diktatürk
DESCRIPTION:Bülent wehrt sich humorvoll gegen diktatorische Regeln in Politik, Familie und Alltag – mit Metal und Marschmusik.\n\nhttps://eventfrog.de/de/p/theater-buehne/comedy-kabarett/buelent-ceylan-diktatuerk-7452682699381189763.html
LOCATION:EDEKA Arena
GEO:48.462280;7.934726
URL:https://eventfrog.de/de/p/theater-buehne/comedy-kabarett/buelent-ceylan-diktatuerk-7452682699381189763.html
END:VEVENT
END:VCALENDAR