BEGIN:VCALENDAR
VERSION:2.0
PRODID:EVENTFROG//EVENT//ICAL
BEGIN:VEVENT
UID:20260424T084651Z-7452684620095564707@eventfrog.de
DTSTAMP:20260424T084651Z
DTSTART:20261128T081500Z
DTEND:20270502T140000Z
SUMMARY:Phyllis Krystal Weiterbildung
DESCRIPTION:Dieses Seminar ist offen für alle. Es richtet sich an Menschen, die eine wirksame Methode suchen, um sich – oder anderen – zu helfen, sich von wiederkehrenden negativen Gedanken, Gefühlen, Einstellung\n\nhttps://eventfrog.de/de/p/kurse-seminare/sonstige-kurse-seminare/phyllis-krystal-weiterbildung-7452684620095564707.html
LOCATION:Kurszentrum Aarau
GEO:47.394300;8.047960
URL:https://eventfrog.de/de/p/kurse-seminare/sonstige-kurse-seminare/phyllis-krystal-weiterbildung-7452684620095564707.html
END:VEVENT
END:VCALENDAR