BEGIN:VCALENDAR
VERSION:2.0
PRODID:EVENTFROG//EVENT//ICAL
BEGIN:VEVENT
UID:20260422T184504Z-7452695585818175115@eventfrog.de
DTSTAMP:20260422T184504Z
DTSTART:20260507T160000Z
SUMMARY:Thursday — Apero & Vinyl Open Decks
DESCRIPTION:Geniesse donnerstags ab 17 Uhr Apero und Open Vinyl Decks, ab 21 Uhr spielt Gene Douglas mit lokalen DJs.\n\nhttps://eventfrog.de/de/p/partys/sonstige-partys/thursday-apero-vinyl-open-decks-7452695585818175115.html
LOCATION:The Spot Bar
GEO:47.379538;8.526002
URL:https://eventfrog.de/de/p/partys/sonstige-partys/thursday-apero-vinyl-open-decks-7452695585818175115.html
END:VEVENT
END:VCALENDAR