BEGIN:VCALENDAR
VERSION:2.0
PRODID:EVENTFROG//EVENT//ICAL
BEGIN:VEVENT
UID:20260425T164334Z-7452699310641165845@eventfrog.de
DTSTAMP:20260425T164334Z
DTSTART:20260422T130000Z
DTEND:20260422T180000Z
SUMMARY:HOUSE OF MAGIC
DESCRIPTION:Über 110 Exponate laden in 19 Räumen ein, Magie und Wissenschaft zu entdecken und Illusionen mit viel Action zu erleben.\n\nhttps://eventfrog.de/de/p/freizeit-ausfluege/sonstige-veranstaltungen/house-of-magic-7452699310641165845.html
LOCATION:HOUSE OF MAGIC
GEO:51.491291;6.877462
URL:https://eventfrog.de/de/p/freizeit-ausfluege/sonstige-veranstaltungen/house-of-magic-7452699310641165845.html
END:VEVENT
END:VCALENDAR