BEGIN:VCALENDAR
VERSION:2.0
PRODID:EVENTFROG//EVENT//ICAL
BEGIN:VEVENT
UID:20260424T110653Z-7452699791333539462@eventfrog.de
DTSTAMP:20260424T110653Z
DTSTART:20260704T143000Z
SUMMARY:Zirkus Chnopf - UFE
DESCRIPTION:UFE ist die neuste Produktion vom Zirkus Chnopf mit 5 Profis und 5 Jugendlichen und jungen Artist:innen zwischen 14 und 23 - unter freiem Himmel.\n\nhttps://eventfrog.de/de/p/musicals-shows/zirkus/zirkus-chnopf-ufe-7452699791333539462.html
LOCATION:Kreuzackerplatz
GEO:47.205666;7.539649
URL:https://eventfrog.de/de/p/musicals-shows/zirkus/zirkus-chnopf-ufe-7452699791333539462.html
END:VEVENT
END:VCALENDAR