BEGIN:VCALENDAR
VERSION:2.0
PRODID:EVENTFROG//EVENT//ICAL
BEGIN:VEVENT
UID:20260425T104528Z-7452701447232197358@eventfrog.de
DTSTAMP:20260425T104528Z
DTSTART:20260605T170000Z
DTEND:20260605T190000Z
SUMMARY:Gusti Pollak und Irene Mazza
DESCRIPTION:Gusti Pollak und Irene Mazza präsentieren mehrsprachige, kritische Lieder zu Menschheit und Migration mit Klavier, Gitarre und Akkordeon.\n\nhttps://eventfrog.de/de/p/konzerte/indie-alternative/gusti-pollak-und-irene-mazza-7452701447232197358.html
LOCATION:Begegnungszentrum von UND Generationentandem
GEO:46.777550;7.637261
URL:https://eventfrog.de/de/p/konzerte/indie-alternative/gusti-pollak-und-irene-mazza-7452701447232197358.html
END:VEVENT
END:VCALENDAR