BEGIN:VCALENDAR
VERSION:2.0
PRODID:EVENTFROG//EVENT//ICAL
BEGIN:VEVENT
UID:20260424T084908Z-7452702516880386418@eventfrog.de
DTSTAMP:20260424T084908Z
DTSTART:20260530T190000Z
SUMMARY:KOLOTOČ
DESCRIPTION:Kolotoč verbindet Balkan-Folk mit urbanem Groove und lädt zu einer mitreissenden, vielseitigen und tanzbaren Konzertreise ein.\n\nhttps://eventfrog.de/de/p/konzerte/weitere-musikrichtungen/koloto-7452702516880386418.html
LOCATION:CAFE BAR MOKKA
GEO:46.760000;7.623977
URL:https://eventfrog.de/de/p/konzerte/weitere-musikrichtungen/koloto-7452702516880386418.html
END:VEVENT
END:VCALENDAR