BEGIN:VCALENDAR
VERSION:2.0
PRODID:EVENTFROG//EVENT//ICAL
BEGIN:VEVENT
UID:20260422T193857Z-7452707787933492667@eventfrog.de
DTSTAMP:20260422T193857Z
DTSTART:20261114T190000Z
DTEND:20261114T220000Z
SUMMARY:Mamma Mia (ABBA) Mitsing-Party – Hits, DJ & 70s-Feeling!
DESCRIPTION:Erlebe bei der Mamma Mia Mitsing-Party die größten ABBA-Hits mit Live-DJ und interaktiver Stimmung im 70er-Jahre-Style.\n\nhttps://eventfrog.de/de/p/partys/70-s/mamma-mia-abba-mitsing-party-hits-dj-70s-feeling-7452707787933492667.html
LOCATION:Max Nachttheater
GEO:54.332755;10.111743
URL:https://eventfrog.de/de/p/partys/70-s/mamma-mia-abba-mitsing-party-hits-dj-70s-feeling-7452707787933492667.html
END:VEVENT
END:VCALENDAR