BEGIN:VCALENDAR
VERSION:2.0
PRODID:EVENTFROG//EVENT//ICAL
BEGIN:VEVENT
UID:20260424T101610Z-7452712284218986556@eventfrog.de
DTSTAMP:20260424T101610Z
DTSTART:20261210T130000Z
DTEND:20261210T150000Z
SUMMARY:Lesegruppe "Alte Schriften"
DESCRIPTION:Gemeinsam in der Gruppe entziffern wir knifflige Stellen und helfen einander beim Erlernen der Kurrentschrift.\n\nhttps://eventfrog.de/de/p/kurse-seminare/kunst-kultur/lesegruppe-alte-schriften-7452712284218986556.html
LOCATION:Aargauer Kantonsbibliothek
GEO:47.389723;8.044993
URL:https://eventfrog.de/de/p/kurse-seminare/kunst-kultur/lesegruppe-alte-schriften-7452712284218986556.html
END:VEVENT
END:VCALENDAR