BEGIN:VCALENDAR
VERSION:2.0
PRODID:EVENTFROG//EVENT//ICAL
BEGIN:VEVENT
UID:20260424T121637Z-7452712412057190840@eventfrog.de
DTSTAMP:20260424T121637Z
DTSTART:20260918T080000Z
DTEND:20260918T093000Z
SUMMARY:Spinale Perez - von Überreaktion zu ruhiger Selbstwahrnehmng
DESCRIPTION:Der Kurs hilft, den Spinalen Perez -Reflex zu integrieren und so von Überreaktion zurück in ruhige Selbstwahrnehmung zu finden.\n\nhttps://eventfrog.de/de/p/kurse-seminare/sonstige-kurse-seminare/spinale-perez-von-ueberreaktion-zu-ruhiger-selbstwahrnehmng-7452712412057190840.html
LOCATION:Gsundheitspraxis Kriech
GEO:47.067071;7.343919
URL:https://eventfrog.de/de/p/kurse-seminare/sonstige-kurse-seminare/spinale-perez-von-ueberreaktion-zu-ruhiger-selbstwahrnehmng-7452712412057190840.html
END:VEVENT
END:VCALENDAR