BEGIN:VCALENDAR
VERSION:2.0
PRODID:EVENTFROG//EVENT//ICAL
BEGIN:VEVENT
UID:20260424T084818Z-7452713063323581888@eventfrog.de
DTSTAMP:20260424T084818Z
DTSTART:20260509T210000Z
DTEND:20260510T030000Z
SUMMARY:MARBELLA ZURICH (Fiesta Española)
DESCRIPTION:M25 Maison lädt zu einer spanischen Nacht mit Glamour und lateinischem Rhythmus in Zürich ein. Feiere und tanze bis in den Morgen.\n\nhttps://eventfrog.de/de/p/partys/latin-brasil/marbella-zurich-fiesta-espanola-7452713063323581888.html
LOCATION:Talstrasse 25
GEO:47.368599;8.538153
URL:https://eventfrog.de/de/p/partys/latin-brasil/marbella-zurich-fiesta-espanola-7452713063323581888.html
END:VEVENT
END:VCALENDAR