BEGIN:VCALENDAR
VERSION:2.0
PRODID:EVENTFROG//EVENT//ICAL
BEGIN:VEVENT
UID:20260424T074748Z-7452714696837179763@eventfrog.de
DTSTAMP:20260424T074748Z
DTSTART:20260509T073000Z
DTEND:20260509T120000Z
SUMMARY:Prix ibw 2026
DESCRIPTION:Von Vivaldi bis zu wilden Kerlen: Achtzehn junge Musiktalente bieten am sechsten Prix ibw ein vielseitiges Programm – und freuen sich auf zahlreiche Gäste! Beginn 09.30 Uhr, Eintritt frei.\n\nhttps://eventfrog.de/de/p/konzerte/offene-buehne/prix-ibw-2026-7452714696837179763.html
LOCATION:Chappelehof
GEO:47.352389;8.277946
URL:https://eventfrog.de/de/p/konzerte/offene-buehne/prix-ibw-2026-7452714696837179763.html
END:VEVENT
END:VCALENDAR