BEGIN:VCALENDAR
VERSION:2.0
PRODID:EVENTFROG//EVENT//ICAL
BEGIN:VEVENT
UID:20260424T075550Z-7452719475374185844@eventfrog.de
DTSTAMP:20260424T075550Z
DTSTART:20260605T190000Z
SUMMARY:Concert événement  THIERRY LANG QUARTET moderne/swing
DESCRIPTION:Thierry Lang joue ses compositions au One More Time avec Denis Leloup, Heiri Känzig et Paolo Orlandi dans un concert unique.\n\nhttps://eventfrog.de/fr/p/concerts/jazz-blues/concert-evenement-thierry-lang-quartet-moderne-swing-7452719475374185844.html
LOCATION:Centre des Musiques Actuelles
GEO:46.196878;6.136636
URL:https://eventfrog.de/fr/p/concerts/jazz-blues/concert-evenement-thierry-lang-quartet-moderne-swing-7452719475374185844.html
END:VEVENT
END:VCALENDAR