BEGIN:VCALENDAR
VERSION:2.0
PRODID:EVENTFROG//EVENT//ICAL
BEGIN:VEVENT
UID:20260424T083504Z-7452724265034498861@eventfrog.de
DTSTAMP:20260424T083504Z
DTSTART:20260605T173000Z
SUMMARY:Bülacher Jazzgottesdienst
DESCRIPTION:David Klein (sax), Christian Gutfleisch (p), Gianni Narduzzi (b), Pfarrer Sebastian Zebe\n\n\n\nhttps://eventfrog.de/de/p/religion-feiertage/gottesdienst/buelacher-jazzgottesdienst-7452724265034498861.html
LOCATION:Reformierte Kirche Bülach
GEO:47.516781;8.540568
URL:https://eventfrog.de/de/p/religion-feiertage/gottesdienst/buelacher-jazzgottesdienst-7452724265034498861.html
END:VEVENT
END:VCALENDAR