BEGIN:VCALENDAR
VERSION:2.0
PRODID:EVENTFROG//EVENT//ICAL
BEGIN:VEVENT
UID:20260424T092147Z-7452726087694421895@eventfrog.de
DTSTAMP:20260424T092147Z
DTSTART:20260523T140000Z
DTEND:20260523T160000Z
SUMMARY:TRE & Meditation - Der Rosenquarz & das Innere Kind
DESCRIPTION:Wir meditieren mit Rosenquarz, um emotionale Wunden zu heilen und Herz sowie Hormonhaushalt zu harmonisieren.\n\nhttps://eventfrog.de/de/p/gesundheit-spiritualitaet/gesundheit-wohlbefinden/tre-meditation-der-rosenquarz-das-innere-kind-7452726087694421895.html
LOCATION:Gsundheitspraxis Kriech
GEO:47.067071;7.343919
URL:https://eventfrog.de/de/p/gesundheit-spiritualitaet/gesundheit-wohlbefinden/tre-meditation-der-rosenquarz-das-innere-kind-7452726087694421895.html
END:VEVENT
END:VCALENDAR