BEGIN:VCALENDAR
VERSION:2.0
PRODID:EVENTFROG//EVENT//ICAL
BEGIN:VEVENT
UID:20260424T094047Z-7452731282193177582@eventfrog.de
DTSTAMP:20260424T094047Z
DTSTART:20260613T170000Z
SUMMARY:Die Himmel erzählen - Mit Werken von Schütz, Bruckner, Laur
DESCRIPTION:Der Kammerchor legato m präsentiert facettenreiche a cappella Sommerkonzerte mit Werken von Schütz bis Lauridsen und Eigenkomposition von Chorleiter Phillip Gatzke\n\nhttps://eventfrog.de/de/p/konzerte/chor/die-himmel-erzaehlen-mit-werken-von-schuetz-bruckner-laur-7452731282193177582.html
LOCATION:Petrikirche
GEO:51.961770;7.622545
URL:https://eventfrog.de/de/p/konzerte/chor/die-himmel-erzaehlen-mit-werken-von-schuetz-bruckner-laur-7452731282193177582.html
END:VEVENT
END:VCALENDAR