BEGIN:VCALENDAR
VERSION:2.0
PRODID:EVENTFROG//EVENT//ICAL
BEGIN:VEVENT
UID:20260424T072346Z-7452732721556640832@eventfrog.de
DTSTAMP:20260424T072346Z
DTSTART:20260430T160000Z
DTEND:20260430T190000Z
SUMMARY:SOL X FACHSCHAFTEN Bier-Pong Turnier
DESCRIPTION:Das Bier-Pong Turnier im Studi-Kaffee « Baloo » startet am 30. April 2026 um 18 Uhr mit 16 Teams. Teilnahmegebühr 30 CHF.\n\nhttps://eventfrog.de/de/p/partys/studentenparty/sol-x-fachschaften-bier-pong-turnier-7452732721556640832.html
LOCATION:Baloo
GEO:47.049404;8.312522
URL:https://eventfrog.de/de/p/partys/studentenparty/sol-x-fachschaften-bier-pong-turnier-7452732721556640832.html
END:VEVENT
END:VCALENDAR