BEGIN:VCALENDAR
VERSION:2.0
PRODID:EVENTFROG//EVENT//ICAL
BEGIN:VEVENT
UID:20260424T074710Z-7452735424164848017@eventfrog.de
DTSTAMP:20260424T074710Z
DTSTART:20260530T170000Z
DTEND:20260531T000000Z
SUMMARY:Festa Das Festas
DESCRIPTION:Tombola oferta\n\nhttps://eventfrog.de/fr/p/concerts/latino/festa-das-festas-7452735424164848017.html
LOCATION:Salle des Libellules
GEO:46.206629;6.107537
URL:https://eventfrog.de/fr/p/concerts/latino/festa-das-festas-7452735424164848017.html
END:VEVENT
END:VCALENDAR