BEGIN:VCALENDAR
VERSION:2.0
PRODID:EVENTFROG//EVENT//ICAL
BEGIN:VEVENT
UID:20260424T063718Z-7452736317463476995@eventfrog.de
DTSTAMP:20260424T063718Z
DTSTART:20260425T111000Z
DTEND:20260425T150000Z
SUMMARY:Publicviewing: Wizards vs. Jets L-UPL Superfinal der Frauen
DESCRIPTION:Übertragung des Frauen Unihockey Superfinal\nWizards Bern Burgdorf vs. Kloten-Dietlikon Jets\n\nhttps://eventfrog.de/de/p/sport-fitness/unihockey/publicviewing-wizards-vs-jets-l-upl-superfinal-der-frauen-7452736317463476995.html
LOCATION:Die heissi Bohne
GEO:47.056274;7.627400
URL:https://eventfrog.de/de/p/sport-fitness/unihockey/publicviewing-wizards-vs-jets-l-upl-superfinal-der-frauen-7452736317463476995.html
END:VEVENT
END:VCALENDAR