BEGIN:VCALENDAR
VERSION:2.0
PRODID:EVENTFROG//EVENT//ICAL
BEGIN:VEVENT
UID:20260424T101454Z-7452742081603231575@eventfrog.de
DTSTAMP:20260424T101454Z
DTSTART:20260604T120000Z
DTEND:20260604T133000Z
SUMMARY:amm Café Med Winterthur
DESCRIPTION:Unentgeltliche Auskunft in Café-Atmosphäre durch pensionierte Fachärzt*Innen. Entscheidungshilfe zu Behandlungsoptionen und allgemeine medizinische Fragen.  \n\nhttps://eventfrog.de/de/p/gesundheit-spiritualitaet/gesundheit-wohlbefinden/amm-cafe-med-winterthur-7452742081603231575.html
LOCATION:Restaurant Neumarkt, Neumarkt 6, Winterthur
GEO:47.498654;8.726899
URL:https://eventfrog.de/de/p/gesundheit-spiritualitaet/gesundheit-wohlbefinden/amm-cafe-med-winterthur-7452742081603231575.html
END:VEVENT
END:VCALENDAR