BEGIN:VCALENDAR
VERSION:2.0
PRODID:EVENTFROG//EVENT//ICAL
BEGIN:VEVENT
UID:20260425T142552Z-7452744378177579021@eventfrog.de
DTSTAMP:20260425T142552Z
DTSTART:20260426T070000Z
DTEND:20260426T140000Z
SUMMARY:Hofflohmarkt
DESCRIPTION:Hofflohmarkt 26.4. 2026 \n\nhttps://eventfrog.de/de/p/maerkte/flohmarkt/hofflohmarkt-7452744378177579021.html
LOCATION:64823 Heubach
URL:https://eventfrog.de/de/p/maerkte/flohmarkt/hofflohmarkt-7452744378177579021.html
END:VEVENT
END:VCALENDAR