BEGIN:VCALENDAR
VERSION:2.0
PRODID:EVENTFROG//EVENT//ICAL
BEGIN:VEVENT
UID:20260422T225325Z-7452755581406863407@eventfrog.de
DTSTAMP:20260422T225325Z
DTSTART:20260522T070000Z
DTEND:20260522T163000Z
SUMMARY:Blütenparadies – Gewächshausverkauf und Einpflanzen
DESCRIPTION:Im Blütenparadies wählst du aus 300+ Bio-Pflanzen, die du vor Ort selbst in deine Gefässe pflanzen oder kaufen kannst.\n\nhttps://eventfrog.de/de/p/freizeit-ausfluege/ausflug/bluetenparadies-gewaechshausverkauf-und-einpflanzen-7452755581406863407.html
LOCATION:Gartencenter Huplant
GEO:47.318181;8.044294
URL:https://eventfrog.de/de/p/freizeit-ausfluege/ausflug/bluetenparadies-gewaechshausverkauf-und-einpflanzen-7452755581406863407.html
END:VEVENT
END:VCALENDAR