BEGIN:VCALENDAR
VERSION:2.0
PRODID:EVENTFROG//EVENT//ICAL
BEGIN:VEVENT
UID:20260424T190415Z-7452758646818119436@eventfrog.de
DTSTAMP:20260424T190415Z
DTSTART:20260510T150000Z
DTEND:20260510T170000Z
SUMMARY:Scheherazade
DESCRIPTION:Das Frühjahrskonzert 2026 erklingt mit Rimskij-Korsakows «Scheherazade», Mendelssohns Hebriden-Ouvertüre und Bruchs Doppelkonzert für Violine und Viola.\n\nhttps://eventfrog.de/de/p/klassik-opern/klassik/scheherazade-7452758646818119436.html
LOCATION:Orangerie Darmstadt
GEO:49.857853;8.653479
URL:https://eventfrog.de/de/p/klassik-opern/klassik/scheherazade-7452758646818119436.html
END:VEVENT
END:VCALENDAR