BEGIN:VCALENDAR
VERSION:2.0
PRODID:EVENTFROG//EVENT//ICAL
BEGIN:VEVENT
UID:20260424T093154Z-7452759911446891249@eventfrog.de
DTSTAMP:20260424T093154Z
DTSTART:20260617T163000Z
DTEND:20260617T200000Z
SUMMARY:Sexpubquiz Absof*ckinglutely Vol. 33!
DESCRIPTION:Am Sexpubquiz wird der Name Programm. Wir kombinieren Fragen zur Sexualität mit dem Format eines Pubquizes. \n\nhttps://eventfrog.de/de/p/diverses/sexpubquiz-absof-ckinglutely-vol-33-7452759911446891249.html
LOCATION:Zentralwäscherei
GEO:47.386986;8.520304
URL:https://eventfrog.de/de/p/diverses/sexpubquiz-absof-ckinglutely-vol-33-7452759911446891249.html
END:VEVENT
END:VCALENDAR