BEGIN:VCALENDAR
VERSION:2.0
PRODID:EVENTFROG//EVENT//ICAL
BEGIN:VEVENT
UID:20260424T123625Z-7452761658215141074@eventfrog.de
DTSTAMP:20260424T123625Z
DTSTART:20260527T170000Z
DTEND:20260527T183000Z
SUMMARY:Beckenbodenkurs online
DESCRIPTION:Der Online-Kurs auf Schweizerdeutsch stärkt den Beckenboden von Frauen jeden Alters flexibel und wirkungsvoll im Alltag.\n\nhttps://eventfrog.de/de/p/gesundheit-spiritualitaet/gesundheit-wohlbefinden/beckenbodenkurs-online-7452761658215141074.html
LOCATION:Via Zoom
URL:https://eventfrog.de/de/p/gesundheit-spiritualitaet/gesundheit-wohlbefinden/beckenbodenkurs-online-7452761658215141074.html
END:VEVENT
END:VCALENDAR