BEGIN:VCALENDAR
VERSION:2.0
PRODID:EVENTFROG//EVENT//ICAL
BEGIN:VEVENT
UID:20260424T100413Z-7452763183368897854@eventfrog.de
DTSTAMP:20260424T100413Z
DTSTART:20260606T110000Z
DTEND:20260606T133000Z
SUMMARY:Beckenboden Wochenende
DESCRIPTION:Frauen stärken an einem Intensivwochenende ihren Beckenboden mit Übungen und Wissen - kompakt und ohne Vorkenntnisse.\n\nhttps://eventfrog.de/de/p/gesundheit-spiritualitaet/gesundheit-wohlbefinden/beckenboden-wochenende-7452763183368897854.html
LOCATION:Gwattstrasse 2b
GEO:46.740820;7.627497
URL:https://eventfrog.de/de/p/gesundheit-spiritualitaet/gesundheit-wohlbefinden/beckenboden-wochenende-7452763183368897854.html
END:VEVENT
END:VCALENDAR