BEGIN:VCALENDAR
VERSION:2.0
PRODID:EVENTFROG//EVENT//ICAL
BEGIN:VEVENT
UID:20260426T033554Z-7452791257749784097@eventfrog.de
DTSTAMP:20260426T033554Z
DTSTART:20260430T180000Z
DTEND:20260430T200000Z
SUMMARY:BOING! English Comedy Night Köln
DESCRIPTION:"The BOING! English Comedy Night Cologne" at Horizont-Theater features top English and American stand-up comedy with international guests and newcomers, a must-see for comedy lovers.\n\nhttps://eventfrog.de/de/p/theater-buehne/comedy-kabarett/boing-english-comedy-night-koeln-7452791257749784097.html
LOCATION:Horizont Theater
GEO:50.949342;6.959975
URL:https://eventfrog.de/de/p/theater-buehne/comedy-kabarett/boing-english-comedy-night-koeln-7452791257749784097.html
END:VEVENT
END:VCALENDAR