BEGIN:VCALENDAR
VERSION:2.0
PRODID:EVENTFROG//EVENT//ICAL
BEGIN:VEVENT
UID:20260424T123526Z-7452799989548361962@eventfrog.de
DTSTAMP:20260424T123526Z
DTSTART:20260530T090000Z
DTEND:20260530T150000Z
SUMMARY:Pizzatag auf der Fröschi 30.05.2026
DESCRIPTION:Am 30. Mai können Besucher auf der Fröschi von 11 bis 17 Uhr ihre eigenen Pizzen im Holzofen backen und geniessen.\n\nhttps://eventfrog.de/de/p/freizeit-ausfluege/sonstige-veranstaltungen/pizzatag-auf-der-froeschi-30-05-2026-7452799989548361962.html
LOCATION:Abenteuerspielplatz Fröschenmatt
GEO:47.182926;8.494924
URL:https://eventfrog.de/de/p/freizeit-ausfluege/sonstige-veranstaltungen/pizzatag-auf-der-froeschi-30-05-2026-7452799989548361962.html
END:VEVENT
END:VCALENDAR