BEGIN:VCALENDAR
VERSION:2.0
PRODID:EVENTFROG//EVENT//ICAL
BEGIN:VEVENT
UID:20260424T102441Z-7452807699413119902@eventfrog.de
DTSTAMP:20260424T102441Z
DTSTART:20270409T183000Z
DTEND:20270409T203000Z
SUMMARY:Catena & Marti mit "Mys Käthi schmöckt nach Schoggola"
DESCRIPTION:Hommage an den Berner Troubadour Bernhard Stirnemann – Berner Chanson und Lesung aus der Biografie «Bene – E fräche Siech»\n\nhttps://eventfrog.de/de/p/theater-buehne/lesung/catena-marti-mit-mys-kaethi-schmoeckt-nach-schoggola-7452807699413119902.html
LOCATION:Alti Moschti
GEO:46.814744;7.513911
URL:https://eventfrog.de/de/p/theater-buehne/lesung/catena-marti-mit-mys-kaethi-schmoeckt-nach-schoggola-7452807699413119902.html
END:VEVENT
END:VCALENDAR