BEGIN:VCALENDAR
VERSION:2.0
PRODID:EVENTFROG//EVENT//ICAL
BEGIN:VEVENT
UID:20260424T065529Z-7452834576295032567@eventfrog.de
DTSTAMP:20260424T065529Z
DTSTART:20260624T190000Z
SUMMARY:WM Public Viewing: Schweiz vs. Kanada
DESCRIPTION:WM Public Viewing der Schweizer Nati live im Bredella Village in Pratteln.\n\nhttps://eventfrog.de/de/p/essen-trinken/wm-public-viewing-schweiz-vs-kanada-7452834576295032567.html
LOCATION:Bredella Village Pratteln
GEO:47.523460;7.690103
URL:https://eventfrog.de/de/p/essen-trinken/wm-public-viewing-schweiz-vs-kanada-7452834576295032567.html
END:VEVENT
END:VCALENDAR