BEGIN:VCALENDAR
VERSION:2.0
PRODID:EVENTFROG//EVENT//ICAL
BEGIN:VEVENT
UID:20260424T110616Z-7452958343751068511@eventfrog.de
DTSTAMP:20260424T110616Z
DTSTART:20260624T073000Z
DTEND:20260624T103000Z
SUMMARY:​KI.Impact: KI und Datenstrategie​​
DESCRIPTION:​Zwei Seiten einer Medaille​​.\n\nhttps://eventfrog.de/de/p/wissenschaft-und-technik/ki-impact-ki-und-datenstrategie-7452958343751068511.html
LOCATION:Urban Innovation Hub »uih!«
GEO:49.143323;9.220551
URL:https://eventfrog.de/de/p/wissenschaft-und-technik/ki-impact-ki-und-datenstrategie-7452958343751068511.html
END:VEVENT
END:VCALENDAR