BEGIN:VCALENDAR
VERSION:2.0
PRODID:EVENTFROG//EVENT//ICAL
BEGIN:VEVENT
UID:20260424T083233Z-7452960185490868108@eventfrog.de
DTSTAMP:20260424T083233Z
DTSTART:20260502T180000Z
DTEND:20260502T210000Z
SUMMARY:Country & Americana Night
DESCRIPTION:Jim Bows & The Flycatchers spielen am 2. Mai ab 20 Uhr im Pyramide Meggen akustische Musik mit US-Folk, Bluegrass und Country-Einflüssen.\n\nhttps://eventfrog.de/de/p/konzerte/country/country-americana-night-7452960185490868108.html
LOCATION:Restaurant & Bistro Pyramide
GEO:47.047001;8.373447
URL:https://eventfrog.de/de/p/konzerte/country/country-americana-night-7452960185490868108.html
END:VEVENT
END:VCALENDAR