BEGIN:VCALENDAR
VERSION:2.0
PRODID:EVENTFROG//EVENT//ICAL
BEGIN:VEVENT
UID:20260424T083450Z-7452961526212786515@eventfrog.de
DTSTAMP:20260424T083450Z
DTSTART:20260618T170000Z
SUMMARY:Sommerständli mit der Musikgesellschaft Detligen
DESCRIPTION:Sommerabend auf unserer Terrasse mit musikalischer Unterhaltung mit der MG Detligen\n\nhttps://eventfrog.de/de/p/konzerte/blasmusik/sommerstaendli-mit-der-musikgesellschaft-detligen-7452961526212786515.html
LOCATION:Gasthof Sternen
GEO:47.002141;7.270671
URL:https://eventfrog.de/de/p/konzerte/blasmusik/sommerstaendli-mit-der-musikgesellschaft-detligen-7452961526212786515.html
END:VEVENT
END:VCALENDAR