BEGIN:VCALENDAR
VERSION:2.0
PRODID:EVENTFROG//EVENT//ICAL
BEGIN:VEVENT
UID:20260425T173858Z-7452963739282713987@eventfrog.de
DTSTAMP:20260425T173858Z
DTSTART:20260817T170000Z
SUMMARY:Sommerständli mit Tivolis Live
DESCRIPTION:Sommerabend auf unserer Terrasse mit musikalischer Unterhaltung mit Tivolis Live\n\nhttps://eventfrog.de/de/p/konzerte/weitere-musikrichtungen/sommerstaendli-mit-tivolis-live-7452963739282713987.html
LOCATION:Gasthof Sternen
GEO:47.002141;7.270671
URL:https://eventfrog.de/de/p/konzerte/weitere-musikrichtungen/sommerstaendli-mit-tivolis-live-7452963739282713987.html
END:VEVENT
END:VCALENDAR