BEGIN:VCALENDAR
VERSION:2.0
PRODID:EVENTFROG//EVENT//ICAL
BEGIN:VEVENT
UID:20260424T083251Z-7452967205245839335@eventfrog.de
DTSTAMP:20260424T083251Z
DTSTART:20260612T170000Z
SUMMARY:Sommerständli mit dem Seeländer Chinderchörli
DESCRIPTION:Sommerabend auf unserer Terrasse mit musikalischer Unterhaltung mit dem Seeländer Chinderchörli\n\nhttps://eventfrog.de/de/p/konzerte/chor/sommerstaendli-mit-dem-seelaender-chinderchoerli-7452967205245839335.html
LOCATION:Gasthof Sternen
GEO:47.002141;7.270671
URL:https://eventfrog.de/de/p/konzerte/chor/sommerstaendli-mit-dem-seelaender-chinderchoerli-7452967205245839335.html
END:VEVENT
END:VCALENDAR