BEGIN:VCALENDAR
VERSION:2.0
PRODID:EVENTFROG//EVENT//ICAL
BEGIN:VEVENT
UID:20260424T083801Z-7452967805463356585@eventfrog.de
DTSTAMP:20260424T083801Z
DTSTART:20260603T170000Z
DTEND:20260603T210000Z
SUMMARY:Philosophie mit Genuss
DESCRIPTION:Philosophischer Vortrag mit Essen in gemütlicher Atmosphäre.\n\nhttps://eventfrog.de/de/p/fuehrungen-vortraege/vortrag/philosophie-mit-genuss-7452967805463356585.html
LOCATION:Reiterhof Hueb
GEO:47.484739;8.616812
URL:https://eventfrog.de/de/p/fuehrungen-vortraege/vortrag/philosophie-mit-genuss-7452967805463356585.html
END:VEVENT
END:VCALENDAR